BEGIN:VCALENDAR
VERSION:2.0
PRODID:-//Cziffra György Fesztivál //NONSGML Events //EN
CALSCALE:GREGORIAN
X-WR-CALNAME:Cziffra György Fesztivál
BEGIN:VTIMEZONE
TZID:Europe/Budapest
BEGIN:DAYLIGHT
TZOFFSETFROM:+0100
RRULE:FREQ=YEARLY;BYMONTH=3;BYDAY=-1SU
DTSTART:19840325T020000
TZNAME:CEST
TZOFFSETTO:+0200
END:DAYLIGHT
BEGIN:STANDARD
TZOFFSETFROM:+0200
RRULE:FREQ=YEARLY;BYMONTH=10;BYDAY=-1SU
DTSTART:19961027T030000
TZNAME:CET
TZOFFSETTO:+0100
END:STANDARD
END:VTIMEZONE
BEGIN:VEVENT
CREATED:20220421T125922Z
UID:3849
DTSTART;TZID=Europe/Budapest:20220710T210000
DTEND;TZID=Europe/Budapest:20220710T210000
DTSTAMP:20260420T123222Z
LOCATION:Imola\, Italy\, 
DESCRIPTION:
SUMMARY:2022.07.10. 21:00 – Cziffra Days in Imola – Imola, Italy
ORGANIZER:Cziffra György Fesztivál
URL;VALUE=URI:https://cziffrafesztival.hu/en/eventcalendar/chamber-music-concert-a-tribute-to-gyorgy-cziffra/
TRANSP:OPAQUE
BEGIN:VALARM
ACTION:DISPLAY
TRIGGER;VALUE=DATE-TIME:20260420T143222Z
DESCRIPTION:Reminder for 2022.07.10. 21:00 &#8211\; Cziffra Days in Imola &#8211\; Imola\, Italy
END:VALARM
END:VEVENT
END:VCALENDAR
