BEGIN:VCALENDAR
VERSION:2.0
PRODID:-//Cziffra György Fesztivál //NONSGML Events //EN
CALSCALE:GREGORIAN
X-WR-CALNAME:Cziffra György Fesztivál
BEGIN:VTIMEZONE
TZID:Europe/Budapest
BEGIN:DAYLIGHT
TZOFFSETFROM:+0100
RRULE:FREQ=YEARLY;BYMONTH=3;BYDAY=-1SU
DTSTART:19840325T020000
TZNAME:CEST
TZOFFSETTO:+0200
END:DAYLIGHT
BEGIN:STANDARD
TZOFFSETFROM:+0200
RRULE:FREQ=YEARLY;BYMONTH=10;BYDAY=-1SU
DTSTART:19961027T030000
TZNAME:CET
TZOFFSETTO:+0100
END:STANDARD
END:VTIMEZONE
BEGIN:VEVENT
CREATED:20220526T104529Z
UID:4206
DTSTART;TZID=Europe/Budapest:20220608T200000
DTEND;TZID=Europe/Budapest:20220608T200000
DTSTAMP:20260420T091304Z
LOCATION:Brussels\, Liszt Institute
DESCRIPTION:
SUMMARY:2022.06.08. 20:00 – THE VIRTUOSO” FILM PROJECTION – ONLINE – Brussels
ORGANIZER:Cziffra György Fesztivál
URL;VALUE=URI:https://cziffrafesztival.hu/en/eventcalendar/4206/
TRANSP:OPAQUE
BEGIN:VALARM
ACTION:DISPLAY
TRIGGER;VALUE=DATE-TIME:20260420T111304Z
DESCRIPTION:Reminder for 2022.06.08. 20:00 &#8211\; THE VIRTUOSO&#8221\; FILM PROJECTION &#8211\; ONLINE &#8211\; Brussels
END:VALARM
END:VEVENT
END:VCALENDAR
