BEGIN:VCALENDAR
VERSION:2.0
PRODID:-//Cziffra György Fesztivál //NONSGML Events //EN
CALSCALE:GREGORIAN
X-WR-CALNAME:Cziffra György Fesztivál
BEGIN:VTIMEZONE
TZID:Europe/Budapest
BEGIN:DAYLIGHT
TZOFFSETFROM:+0100
RRULE:FREQ=YEARLY;BYMONTH=3;BYDAY=-1SU
DTSTART:19840325T020000
TZNAME:CEST
TZOFFSETTO:+0200
END:DAYLIGHT
BEGIN:STANDARD
TZOFFSETFROM:+0200
RRULE:FREQ=YEARLY;BYMONTH=10;BYDAY=-1SU
DTSTART:19961027T030000
TZNAME:CET
TZOFFSETTO:+0100
END:STANDARD
END:VTIMEZONE
BEGIN:VEVENT
CREATED:20231110T135016Z
UID:6264
DTSTART;TZID=Europe/Budapest:20240214T180000
DTEND;TZID=Europe/Budapest:20240214T180000
DTSTAMP:20260420T103824Z
LOCATION:Budapest\, State Security Historical Archive
DESCRIPTION:
SUMMARY:2024.02.14. 18:00 – Hidden in the Cziffra file – The emigree pianist: György Cziffra and state security – Budapest
ORGANIZER:Cziffra György Fesztivál
URL;VALUE=URI:https://cziffrafesztival.hu/en/eventcalendar/6264/
TRANSP:OPAQUE
BEGIN:VALARM
ACTION:DISPLAY
TRIGGER;VALUE=DATE-TIME:20260420T123824Z
DESCRIPTION:Reminder for 2024.02.14. 18:00 &#8211\; Hidden in the Cziffra file &#8211\; The emigree pianist: György Cziffra and state security &#8211\; Budapest
END:VALARM
END:VEVENT
END:VCALENDAR
