BEGIN:VCALENDAR
VERSION:2.0
PRODID:-//Cziffra György Fesztivál //NONSGML Events //EN
CALSCALE:GREGORIAN
X-WR-CALNAME:Cziffra György Fesztivál
BEGIN:VTIMEZONE
TZID:Europe/Budapest
BEGIN:DAYLIGHT
TZOFFSETFROM:+0100
RRULE:FREQ=YEARLY;BYMONTH=3;BYDAY=-1SU
DTSTART:19840325T020000
TZNAME:CEST
TZOFFSETTO:+0200
END:DAYLIGHT
BEGIN:STANDARD
TZOFFSETFROM:+0200
RRULE:FREQ=YEARLY;BYMONTH=10;BYDAY=-1SU
DTSTART:19961027T030000
TZNAME:CET
TZOFFSETTO:+0100
END:STANDARD
END:VTIMEZONE
BEGIN:VEVENT
CREATED:20250901T083816Z
UID:9020
DTSTART;TZID=Europe/Budapest:20251021T190000
DTEND;TZID=Europe/Budapest:20251021T190000
DTSTAMP:20260422T104221Z
LOCATION:Brussels\, Théâtre du Vaudeville
DESCRIPTION:
SUMMARY:2025.10.21. 19:00 – The Freedom of Music – Brussels
ORGANIZER:Cziffra György Fesztivál
URL;VALUE=URI:https://cziffrafesztival.hu/en/eventcalendar/9020/
TRANSP:OPAQUE
BEGIN:VALARM
ACTION:DISPLAY
TRIGGER;VALUE=DATE-TIME:20260422T124221Z
DESCRIPTION:Reminder for 2025.10.21. 19:00 &#8211\; The Freedom of Music &#8211\; Brussels
END:VALARM
END:VEVENT
END:VCALENDAR
