BEGIN:VCALENDAR
VERSION:2.0
PRODID:-//Cziffra György Fesztivál //NONSGML Events //EN
CALSCALE:GREGORIAN
X-WR-CALNAME:Cziffra György Fesztivál
BEGIN:VTIMEZONE
TZID:Europe/Budapest
BEGIN:DAYLIGHT
TZOFFSETFROM:+0100
RRULE:FREQ=YEARLY;BYMONTH=3;BYDAY=-1SU
DTSTART:19840325T020000
TZNAME:CEST
TZOFFSETTO:+0200
END:DAYLIGHT
BEGIN:STANDARD
TZOFFSETFROM:+0200
RRULE:FREQ=YEARLY;BYMONTH=10;BYDAY=-1SU
DTSTART:19961027T030000
TZNAME:CET
TZOFFSETTO:+0100
END:STANDARD
END:VTIMEZONE
BEGIN:VEVENT
CREATED:20251217T125607Z
UID:9226
DTSTART;TZID=Europe/Budapest:20260221T110000
DTEND;TZID=Europe/Budapest:20260221T110000
DTSTAMP:20260420T125855Z
LOCATION:Budapest\, Old Music Academy
DESCRIPTION:
SUMMARY:2026.02.21. 11:00 – DOHNÁNYI – ESSENCE – Budapest
ORGANIZER:Cziffra György Fesztivál
URL;VALUE=URI:https://cziffrafesztival.hu/en/eventcalendar/9226/
TRANSP:OPAQUE
BEGIN:VALARM
ACTION:DISPLAY
TRIGGER;VALUE=DATE-TIME:20260420T145855Z
DESCRIPTION:Reminder for 2026.02.21. 11:00 &#8211\; DOHNÁNYI – ESSENCE &#8211\; Budapest
END:VALARM
END:VEVENT
END:VCALENDAR
