BEGIN:VCALENDAR
VERSION:2.0
PRODID:-//Cziffra György Fesztivál //NONSGML Events //EN
CALSCALE:GREGORIAN
X-WR-CALNAME:Cziffra György Fesztivál
BEGIN:VTIMEZONE
TZID:Europe/Budapest
BEGIN:DAYLIGHT
TZOFFSETFROM:+0100
RRULE:FREQ=YEARLY;BYMONTH=3;BYDAY=-1SU
DTSTART:19840325T020000
TZNAME:CEST
TZOFFSETTO:+0200
END:DAYLIGHT
BEGIN:STANDARD
TZOFFSETFROM:+0200
RRULE:FREQ=YEARLY;BYMONTH=10;BYDAY=-1SU
DTSTART:19961027T030000
TZNAME:CET
TZOFFSETTO:+0100
END:STANDARD
END:VTIMEZONE
BEGIN:VEVENT
CREATED:20251217T133522Z
UID:9228
DTSTART;TZID=Europe/Budapest:20260222T193000
DTEND;TZID=Europe/Budapest:20260222T193000
DTSTAMP:20260420T091130Z
LOCATION:Budapest\, Liszt Academy\, Great Hall
DESCRIPTION:
SUMMARY:2026.02.22. 19:30 – Champions League #Classic – Budapest
ORGANIZER:Cziffra György Fesztivál
URL;VALUE=URI:https://cziffrafesztival.hu/en/eventcalendar/9228/
TRANSP:OPAQUE
BEGIN:VALARM
ACTION:DISPLAY
TRIGGER;VALUE=DATE-TIME:20260420T111130Z
DESCRIPTION:Reminder for 2026.02.22. 19:30 &#8211\; Champions League #Classic &#8211\; Budapest
END:VALARM
END:VEVENT
END:VCALENDAR
