BEGIN:VCALENDAR
VERSION:2.0
PRODID:-//Cziffra György Fesztivál //NONSGML Events //EN
CALSCALE:GREGORIAN
X-WR-CALNAME:Cziffra György Fesztivál
BEGIN:VTIMEZONE
TZID:Europe/Budapest
BEGIN:DAYLIGHT
TZOFFSETFROM:+0100
RRULE:FREQ=YEARLY;BYMONTH=3;BYDAY=-1SU
DTSTART:19840325T020000
TZNAME:CEST
TZOFFSETTO:+0200
END:DAYLIGHT
BEGIN:STANDARD
TZOFFSETFROM:+0200
RRULE:FREQ=YEARLY;BYMONTH=10;BYDAY=-1SU
DTSTART:19961027T030000
TZNAME:CET
TZOFFSETTO:+0100
END:STANDARD
END:VTIMEZONE
BEGIN:VEVENT
CREATED:20210528T113516Z
UID:1138
DTSTART;TZID=Europe/Budapest:20210619T180000
DTEND;TZID=Europe/Budapest:20210619T180000
DTSTAMP:20260420T085420Z
LOCATION:Budapest\, Hegyvidéki Kulturális Szalon
DESCRIPTION:
SUMMARY:2021.06.19. 18:00 – Klassz.KamaraLépcső – Budapest
ORGANIZER:Cziffra György Fesztivál
URL;VALUE=URI:https://cziffrafesztival.hu/esemenynaptar/klassz-kamarakoncert-interaktiv-szabadteri-koncert-a-solti-gyorgy-zeneiskola-ifju-tehetsegeivel/
TRANSP:OPAQUE
BEGIN:VALARM
ACTION:DISPLAY
TRIGGER;VALUE=DATE-TIME:20260420T105420Z
DESCRIPTION:Reminder for 2021.06.19. 18:00 &#8211\; Klassz.KamaraLépcső &#8211\; Budapest
END:VALARM
END:VEVENT
END:VCALENDAR
