BEGIN:VCALENDAR
VERSION:2.0
PRODID:-//Cziffra György Fesztivál //NONSGML Events //EN
CALSCALE:GREGORIAN
X-WR-CALNAME:Cziffra György Fesztivál
BEGIN:VTIMEZONE
TZID:Europe/Budapest
BEGIN:DAYLIGHT
TZOFFSETFROM:+0100
RRULE:FREQ=YEARLY;BYMONTH=3;BYDAY=-1SU
DTSTART:19840325T020000
TZNAME:CEST
TZOFFSETTO:+0200
END:DAYLIGHT
BEGIN:STANDARD
TZOFFSETFROM:+0200
RRULE:FREQ=YEARLY;BYMONTH=10;BYDAY=-1SU
DTSTART:19961027T030000
TZNAME:CET
TZOFFSETTO:+0100
END:STANDARD
END:VTIMEZONE
BEGIN:VEVENT
CREATED:20210531T174436Z
UID:1401
DTSTART;TZID=Europe/Budapest:20210409T190000
DTEND;TZID=Europe/Budapest:20210409T190000
DTSTAMP:20260421T132857Z
LOCATION:Zalaegerszeg\, Városi Hangverseny- és Kiállítóterem
DESCRIPTION:
SUMMARY:2021.04.09. 19:00 – Balázs János és Lajkó Félix – Zalaegerszeg
ORGANIZER:Cziffra György Fesztivál
URL;VALUE=URI:https://cziffrafesztival.hu/esemenynaptar/1401/
TRANSP:OPAQUE
BEGIN:VALARM
ACTION:DISPLAY
TRIGGER;VALUE=DATE-TIME:20260421T152857Z
DESCRIPTION:Reminder for 2021.04.09. 19:00 &#8211\; Balázs János és Lajkó Félix &#8211\; Zalaegerszeg
END:VALARM
END:VEVENT
END:VCALENDAR
