BEGIN:VCALENDAR
VERSION:2.0
PRODID:-//Cziffra György Fesztivál //NONSGML Events //EN
CALSCALE:GREGORIAN
X-WR-CALNAME:Cziffra György Fesztivál
BEGIN:VTIMEZONE
TZID:Europe/Budapest
BEGIN:DAYLIGHT
TZOFFSETFROM:+0100
RRULE:FREQ=YEARLY;BYMONTH=3;BYDAY=-1SU
DTSTART:19840325T020000
TZNAME:CEST
TZOFFSETTO:+0200
END:DAYLIGHT
BEGIN:STANDARD
TZOFFSETFROM:+0200
RRULE:FREQ=YEARLY;BYMONTH=10;BYDAY=-1SU
DTSTART:19961027T030000
TZNAME:CET
TZOFFSETTO:+0100
END:STANDARD
END:VTIMEZONE
BEGIN:VEVENT
CREATED:20211010T125857Z
UID:2221
DTSTART;TZID=Europe/Budapest:20220503T190000
DTEND;TZID=Europe/Budapest:20220503T190000
DTSTAMP:20260421T101432Z
LOCATION:Nyíregyháza\, Kodály Zoltán Általános Iskola
DESCRIPTION:
SUMMARY:2022.05.03. 19:00 – Miklósa Erika, Balázs János és Horváth István – Nyíregyháza
ORGANIZER:Cziffra György Fesztivál
URL;VALUE=URI:https://cziffrafesztival.hu/esemenynaptar/2221/
TRANSP:OPAQUE
BEGIN:VALARM
ACTION:DISPLAY
TRIGGER;VALUE=DATE-TIME:20260421T121432Z
DESCRIPTION:Reminder for 2022.05.03. 19:00 &#8211\; Miklósa Erika\, Balázs János és Horváth István &#8211\; Nyíregyháza
END:VALARM
END:VEVENT
END:VCALENDAR
