BEGIN:VCALENDAR
VERSION:2.0
PRODID:-//Cziffra György Fesztivál //NONSGML Events //EN
CALSCALE:GREGORIAN
X-WR-CALNAME:Cziffra György Fesztivál
BEGIN:VTIMEZONE
TZID:Europe/Budapest
BEGIN:DAYLIGHT
TZOFFSETFROM:+0100
RRULE:FREQ=YEARLY;BYMONTH=3;BYDAY=-1SU
DTSTART:19840325T020000
TZNAME:CEST
TZOFFSETTO:+0200
END:DAYLIGHT
BEGIN:STANDARD
TZOFFSETFROM:+0200
RRULE:FREQ=YEARLY;BYMONTH=10;BYDAY=-1SU
DTSTART:19961027T030000
TZNAME:CET
TZOFFSETTO:+0100
END:STANDARD
END:VTIMEZONE
BEGIN:VEVENT
CREATED:20220517T091444Z
UID:4150
DTSTART;TZID=Europe/Budapest:20220608T200000
DTEND;TZID=Europe/Budapest:20220608T200000
DTSTAMP:20260420T104512Z
LOCATION:Brüsszel\, Liszt Intézet
DESCRIPTION:
SUMMARY:2022.06.08. 20:00 – “A Virtuóz” filmvetítés – online – Brüsszel
ORGANIZER:Cziffra György Fesztivál
URL;VALUE=URI:https://cziffrafesztival.hu/esemenynaptar/2022-06-08-2000-a-virtuoz-filmvetites-brusszel/
TRANSP:OPAQUE
BEGIN:VALARM
ACTION:DISPLAY
TRIGGER;VALUE=DATE-TIME:20260420T124512Z
DESCRIPTION:Reminder for 2022.06.08. 20:00 &#8211\; “A Virtuóz” filmvetítés &#8211\; online &#8211\; Brüsszel
END:VALARM
END:VEVENT
END:VCALENDAR
