BEGIN:VCALENDAR
VERSION:2.0
PRODID:-//Cziffra György Fesztivál //NONSGML Events //EN
CALSCALE:GREGORIAN
X-WR-CALNAME:Cziffra György Fesztivál
BEGIN:VTIMEZONE
TZID:Europe/Budapest
BEGIN:DAYLIGHT
TZOFFSETFROM:+0100
RRULE:FREQ=YEARLY;BYMONTH=3;BYDAY=-1SU
DTSTART:19840325T020000
TZNAME:CEST
TZOFFSETTO:+0200
END:DAYLIGHT
BEGIN:STANDARD
TZOFFSETFROM:+0200
RRULE:FREQ=YEARLY;BYMONTH=10;BYDAY=-1SU
DTSTART:19961027T030000
TZNAME:CET
TZOFFSETTO:+0100
END:STANDARD
END:VTIMEZONE
BEGIN:VEVENT
CREATED:20220526T094123Z
UID:4196
DTSTART;TZID=Europe/Budapest:20220722T190000
DTEND;TZID=Europe/Budapest:20220722T190000
DTSTAMP:20260421T102557Z
LOCATION:Fertőd\, Esterházy-kastély\, Tiszttartói ház (Kiskastély) udvara
DESCRIPTION:
SUMMARY:2022.07.22. 19:00 – Cziffra100 napok az Esterházy-kastélyban – Fertőd
ORGANIZER:Cziffra György Fesztivál
URL;VALUE=URI:https://cziffrafesztival.hu/esemenynaptar/4196/
TRANSP:OPAQUE
BEGIN:VALARM
ACTION:DISPLAY
TRIGGER;VALUE=DATE-TIME:20260421T122557Z
DESCRIPTION:Reminder for 2022.07.22. 19:00 &#8211\; Cziffra100 napok az Esterházy-kastélyban &#8211\; Fertőd
END:VALARM
END:VEVENT
END:VCALENDAR
