BEGIN:VCALENDAR
VERSION:2.0
PRODID:-//Cziffra György Fesztivál //NONSGML Events //EN
CALSCALE:GREGORIAN
X-WR-CALNAME:Cziffra György Fesztivál
BEGIN:VTIMEZONE
TZID:Europe/Budapest
BEGIN:DAYLIGHT
TZOFFSETFROM:+0100
RRULE:FREQ=YEARLY;BYMONTH=3;BYDAY=-1SU
DTSTART:19840325T020000
TZNAME:CEST
TZOFFSETTO:+0200
END:DAYLIGHT
BEGIN:STANDARD
TZOFFSETFROM:+0200
RRULE:FREQ=YEARLY;BYMONTH=10;BYDAY=-1SU
DTSTART:19961027T030000
TZNAME:CET
TZOFFSETTO:+0100
END:STANDARD
END:VTIMEZONE
BEGIN:VEVENT
CREATED:20220719T124407Z
UID:4308
DTSTART;TZID=Europe/Budapest:20220803T193000
DTEND;TZID=Europe/Budapest:20220803T193000
DTSTAMP:20260421T101410Z
LOCATION:Szentendre\, Városháza
DESCRIPTION:
SUMMARY:2022.08.03. 19:30 – “Árnyékból a fénybe” – Tablókiállítás – Kiállítás megnyitó – Szentendre
ORGANIZER:Cziffra György Fesztivál
URL;VALUE=URI:https://cziffrafesztival.hu/esemenynaptar/2022-08-03-1930-arnyekbol-a-fenybe-tablokiallitas-kiallitas-megnyito-szentendre/
TRANSP:OPAQUE
BEGIN:VALARM
ACTION:DISPLAY
TRIGGER;VALUE=DATE-TIME:20260421T121410Z
DESCRIPTION:Reminder for 2022.08.03. 19:30 &#8211\; “Árnyékból a fénybe” &#8211\; Tablókiállítás &#8211\; Kiállítás megnyitó &#8211\; Szentendre
END:VALARM
END:VEVENT
END:VCALENDAR
