BEGIN:VCALENDAR
VERSION:2.0
PRODID:-//Cziffra György Fesztivál //NONSGML Events //EN
CALSCALE:GREGORIAN
X-WR-CALNAME:Cziffra György Fesztivál
BEGIN:VTIMEZONE
TZID:Europe/Budapest
BEGIN:DAYLIGHT
TZOFFSETFROM:+0100
RRULE:FREQ=YEARLY;BYMONTH=3;BYDAY=-1SU
DTSTART:19840325T020000
TZNAME:CEST
TZOFFSETTO:+0200
END:DAYLIGHT
BEGIN:STANDARD
TZOFFSETFROM:+0200
RRULE:FREQ=YEARLY;BYMONTH=10;BYDAY=-1SU
DTSTART:19961027T030000
TZNAME:CET
TZOFFSETTO:+0100
END:STANDARD
END:VTIMEZONE
BEGIN:VEVENT
CREATED:20221005T133507Z
UID:4454
DTSTART;TZID=Europe/Budapest:20221101T190000
DTEND;TZID=Europe/Budapest:20221130T190000
DTSTAMP:20260421T030809Z
LOCATION:Budapest\, Várkert bazár\, szabadtéri kiállítás
DESCRIPTION:
SUMMARY:2022.11.01. 19:00 – „Árnyékból a fénybe” – Budapest
ORGANIZER:Cziffra György Fesztivál
URL;VALUE=URI:https://cziffrafesztival.hu/esemenynaptar/2022-10-12-1900-arnyekbol-a-fenybe-budapest/
TRANSP:OPAQUE
BEGIN:VALARM
ACTION:DISPLAY
TRIGGER;VALUE=DATE-TIME:20260421T050809Z
DESCRIPTION:Reminder for 2022.11.01. 19:00 &#8211\; „Árnyékból a fénybe” &#8211\; Budapest
END:VALARM
END:VEVENT
END:VCALENDAR
