BEGIN:VCALENDAR
VERSION:2.0
PRODID:-//Cziffra György Fesztivál //NONSGML Events //EN
CALSCALE:GREGORIAN
X-WR-CALNAME:Cziffra György Fesztivál
BEGIN:VTIMEZONE
TZID:Europe/Budapest
BEGIN:DAYLIGHT
TZOFFSETFROM:+0100
RRULE:FREQ=YEARLY;BYMONTH=3;BYDAY=-1SU
DTSTART:19840325T020000
TZNAME:CEST
TZOFFSETTO:+0200
END:DAYLIGHT
BEGIN:STANDARD
TZOFFSETFROM:+0200
RRULE:FREQ=YEARLY;BYMONTH=10;BYDAY=-1SU
DTSTART:19961027T030000
TZNAME:CET
TZOFFSETTO:+0100
END:STANDARD
END:VTIMEZONE
BEGIN:VEVENT
CREATED:20221111T100210Z
UID:4781
DTSTART;TZID=Europe/Budapest:20230226T193000
DTEND;TZID=Europe/Budapest:20230226T193000
DTSTAMP:20260421T030456Z
LOCATION:Budapest\, Zeneakadémia\, Nagyterem
DESCRIPTION:
SUMMARY:2023.02.26. 19:30 – Cziffra Fesztivál – Párizs aranykora – Budapest
ORGANIZER:Cziffra György Fesztivál
URL;VALUE=URI:https://cziffrafesztival.hu/esemenynaptar/2023-02-26-1930-cziffra-fesztival-balazs-janos-sandro-de-palma-es-a-budafoki-dohnanyi-zenekar-koncertje-budapest/
TRANSP:OPAQUE
BEGIN:VALARM
ACTION:DISPLAY
TRIGGER;VALUE=DATE-TIME:20260421T050456Z
DESCRIPTION:Reminder for 2023.02.26. 19:30 &#8211\; Cziffra Fesztivál – Párizs aranykora &#8211\; Budapest
END:VALARM
END:VEVENT
END:VCALENDAR
