BEGIN:VCALENDAR
VERSION:2.0
PRODID:-//Cziffra György Fesztivál //NONSGML Events //EN
CALSCALE:GREGORIAN
X-WR-CALNAME:Cziffra György Fesztivál
BEGIN:VTIMEZONE
TZID:Europe/Budapest
BEGIN:DAYLIGHT
TZOFFSETFROM:+0100
RRULE:FREQ=YEARLY;BYMONTH=3;BYDAY=-1SU
DTSTART:19840325T020000
TZNAME:CEST
TZOFFSETTO:+0200
END:DAYLIGHT
BEGIN:STANDARD
TZOFFSETFROM:+0200
RRULE:FREQ=YEARLY;BYMONTH=10;BYDAY=-1SU
DTSTART:19961027T030000
TZNAME:CET
TZOFFSETTO:+0100
END:STANDARD
END:VTIMEZONE
BEGIN:VEVENT
CREATED:20230110T090319Z
UID:5161
DTSTART;TZID=Europe/Budapest:20230521T110000
DTEND;TZID=Europe/Budapest:20230521T110000
DTSTAMP:20260421T012237Z
LOCATION:Budapest\, MOMKult\, Színházterem
DESCRIPTION:
SUMMARY:2023.05.21. 11:00 – Cziffra Fesztivál – Balázs János gyerekkoncertje – Budapest
ORGANIZER:Cziffra György Fesztivál
URL;VALUE=URI:https://cziffrafesztival.hu/esemenynaptar/balazs-janos-gyerekkoncertje/
TRANSP:OPAQUE
BEGIN:VALARM
ACTION:DISPLAY
TRIGGER;VALUE=DATE-TIME:20260421T032237Z
DESCRIPTION:Reminder for 2023.05.21. 11:00 &#8211\; Cziffra Fesztivál &#8211\; Balázs János gyerekkoncertje &#8211\; Budapest
END:VALARM
END:VEVENT
END:VCALENDAR
