BEGIN:VCALENDAR
VERSION:2.0
PRODID:-//Cziffra György Fesztivál //NONSGML Events //EN
CALSCALE:GREGORIAN
X-WR-CALNAME:Cziffra György Fesztivál
BEGIN:VTIMEZONE
TZID:Europe/Budapest
BEGIN:DAYLIGHT
TZOFFSETFROM:+0100
RRULE:FREQ=YEARLY;BYMONTH=3;BYDAY=-1SU
DTSTART:19840325T020000
TZNAME:CEST
TZOFFSETTO:+0200
END:DAYLIGHT
BEGIN:STANDARD
TZOFFSETFROM:+0200
RRULE:FREQ=YEARLY;BYMONTH=10;BYDAY=-1SU
DTSTART:19961027T030000
TZNAME:CET
TZOFFSETTO:+0100
END:STANDARD
END:VTIMEZONE
BEGIN:VEVENT
CREATED:20230117T085625Z
UID:5189
DTSTART;TZID=Europe/Budapest:20230426T193000
DTEND;TZID=Europe/Budapest:20230426T193000
DTSTAMP:20260421T012918Z
LOCATION:Budapest\, Magyar Zene Háza\, Koncertterem
DESCRIPTION:
SUMMARY:2023.04.26. 19:30 – Brahms est – Budapest
ORGANIZER:Cziffra György Fesztivál
URL;VALUE=URI:https://cziffrafesztival.hu/esemenynaptar/brahms-est/
TRANSP:OPAQUE
BEGIN:VALARM
ACTION:DISPLAY
TRIGGER;VALUE=DATE-TIME:20260421T032918Z
DESCRIPTION:Reminder for 2023.04.26. 19:30 &#8211\; Brahms est &#8211\; Budapest
END:VALARM
END:VEVENT
END:VCALENDAR
