BEGIN:VCALENDAR
VERSION:2.0
PRODID:-//Cziffra György Fesztivál //NONSGML Events //EN
CALSCALE:GREGORIAN
X-WR-CALNAME:Cziffra György Fesztivál
BEGIN:VTIMEZONE
TZID:Europe/Budapest
BEGIN:DAYLIGHT
TZOFFSETFROM:+0100
RRULE:FREQ=YEARLY;BYMONTH=3;BYDAY=-1SU
DTSTART:19840325T020000
TZNAME:CEST
TZOFFSETTO:+0200
END:DAYLIGHT
BEGIN:STANDARD
TZOFFSETFROM:+0200
RRULE:FREQ=YEARLY;BYMONTH=10;BYDAY=-1SU
DTSTART:19961027T030000
TZNAME:CET
TZOFFSETTO:+0100
END:STANDARD
END:VTIMEZONE
BEGIN:VEVENT
CREATED:20230123T073850Z
UID:5202
DTSTART;TZID=Europe/Budapest:20230331T190000
DTEND;TZID=Europe/Budapest:20230331T190000
DTSTAMP:20260421T012306Z
LOCATION:Zalaegerszeg\, Keresztury Dezső Városi Művelődési Központ\, Hangverseny- és Kiállítóterem  
DESCRIPTION:
SUMMARY:2023.03.31. 19:00 – Cziffra Fesztivál – Cziffra György emlékhangverseny – Zalaegerszeg
ORGANIZER:Cziffra György Fesztivál
URL;VALUE=URI:https://cziffrafesztival.hu/esemenynaptar/cziffra-gyorgy-emlekhangverseny/
TRANSP:OPAQUE
BEGIN:VALARM
ACTION:DISPLAY
TRIGGER;VALUE=DATE-TIME:20260421T032306Z
DESCRIPTION:Reminder for 2023.03.31. 19:00 &#8211\; Cziffra Fesztivál &#8211\; Cziffra György emlékhangverseny &#8211\; Zalaegerszeg
END:VALARM
END:VEVENT
END:VCALENDAR
