BEGIN:VCALENDAR
VERSION:2.0
PRODID:-//Cziffra György Fesztivál //NONSGML Events //EN
CALSCALE:GREGORIAN
X-WR-CALNAME:Cziffra György Fesztivál
BEGIN:VTIMEZONE
TZID:Europe/Budapest
BEGIN:DAYLIGHT
TZOFFSETFROM:+0100
RRULE:FREQ=YEARLY;BYMONTH=3;BYDAY=-1SU
DTSTART:19840325T020000
TZNAME:CEST
TZOFFSETTO:+0200
END:DAYLIGHT
BEGIN:STANDARD
TZOFFSETFROM:+0200
RRULE:FREQ=YEARLY;BYMONTH=10;BYDAY=-1SU
DTSTART:19961027T030000
TZNAME:CET
TZOFFSETTO:+0100
END:STANDARD
END:VTIMEZONE
BEGIN:VEVENT
CREATED:20230920T093725Z
UID:6044
DTSTART;TZID=Europe/Budapest:20240214T180000
DTEND;TZID=Europe/Budapest:20240214T180000
DTSTAMP:20260420T200026Z
LOCATION:Budapest\, Állambiztonsági Szolgálatok Történeti Levéltára
DESCRIPTION:
SUMMARY:2024.02.14. 18:00 – Mit rejt a Cziffra-dosszié? –Az emigráns zongoraművész: Cziffra György és az állambiztonság – Budapest
ORGANIZER:Cziffra György Fesztivál
URL;VALUE=URI:https://cziffrafesztival.hu/esemenynaptar/2024-02-14-1800-mit-rejt-a-cziffra-dosszie-az-emigrans-zongoramuvesz-cziffra-gyorgy-es-az-allambiztonsag-budapest/
TRANSP:OPAQUE
BEGIN:VALARM
ACTION:DISPLAY
TRIGGER;VALUE=DATE-TIME:20260420T220026Z
DESCRIPTION:Reminder for 2024.02.14. 18:00 &#8211\; Mit rejt a Cziffra-dosszié? –Az emigráns zongoraművész: Cziffra György és az állambiztonság &#8211\; Budapest
END:VALARM
END:VEVENT
END:VCALENDAR
