BEGIN:VCALENDAR
VERSION:2.0
PRODID:-//Cziffra György Fesztivál //NONSGML Events //EN
CALSCALE:GREGORIAN
X-WR-CALNAME:Cziffra György Fesztivál
BEGIN:VTIMEZONE
TZID:Europe/Budapest
BEGIN:DAYLIGHT
TZOFFSETFROM:+0100
RRULE:FREQ=YEARLY;BYMONTH=3;BYDAY=-1SU
DTSTART:19840325T020000
TZNAME:CEST
TZOFFSETTO:+0200
END:DAYLIGHT
BEGIN:STANDARD
TZOFFSETFROM:+0200
RRULE:FREQ=YEARLY;BYMONTH=10;BYDAY=-1SU
DTSTART:19961027T030000
TZNAME:CET
TZOFFSETTO:+0100
END:STANDARD
END:VTIMEZONE
BEGIN:VEVENT
CREATED:20240112T140046Z
UID:6316
DTSTART;TZID=Europe/Budapest:20240508T190000
DTEND;TZID=Europe/Budapest:20240508T190000
DTSTAMP:20260423T041826Z
LOCATION:Pécs\, Kodály Központ\, Hangversenyterem
DESCRIPTION:
SUMMARY:2024.05.08. 19:00 – Zongopera I Miklósa Erika és Balázs János – Pécs
ORGANIZER:Cziffra György Fesztivál
URL;VALUE=URI:https://cziffrafesztival.hu/esemenynaptar/6316/
TRANSP:OPAQUE
BEGIN:VALARM
ACTION:DISPLAY
TRIGGER;VALUE=DATE-TIME:20260423T061826Z
DESCRIPTION:Reminder for 2024.05.08. 19:00 &#8211\; Zongopera I Miklósa Erika és Balázs János &#8211\; Pécs
END:VALARM
END:VEVENT
END:VCALENDAR
