BEGIN:VCALENDAR
VERSION:2.0
PRODID:-//Cziffra György Fesztivál //NONSGML Events //EN
CALSCALE:GREGORIAN
X-WR-CALNAME:Cziffra György Fesztivál
BEGIN:VTIMEZONE
TZID:Europe/Budapest
BEGIN:DAYLIGHT
TZOFFSETFROM:+0100
RRULE:FREQ=YEARLY;BYMONTH=3;BYDAY=-1SU
DTSTART:19840325T020000
TZNAME:CEST
TZOFFSETTO:+0200
END:DAYLIGHT
BEGIN:STANDARD
TZOFFSETFROM:+0200
RRULE:FREQ=YEARLY;BYMONTH=10;BYDAY=-1SU
DTSTART:19961027T030000
TZNAME:CET
TZOFFSETTO:+0100
END:STANDARD
END:VTIMEZONE
BEGIN:VEVENT
CREATED:20240120T141922Z
UID:6332
DTSTART;TZID=Europe/Budapest:20240426T190000
DTEND;TZID=Europe/Budapest:20240426T190000
DTSTAMP:20260423T041925Z
LOCATION:Zalaegerszeg\, Korona Szalon
DESCRIPTION:
SUMMARY:2024.04.26. 19:00 – Fókuszban a fiatalok – A Cziffra Fesztivál díjazottjainak koncertje – Zalaegerszeg
ORGANIZER:Cziffra György Fesztivál
URL;VALUE=URI:https://cziffrafesztival.hu/esemenynaptar/6332/
TRANSP:OPAQUE
BEGIN:VALARM
ACTION:DISPLAY
TRIGGER;VALUE=DATE-TIME:20260423T061925Z
DESCRIPTION:Reminder for 2024.04.26. 19:00 &#8211\; Fókuszban a fiatalok &#8211\; A Cziffra Fesztivál díjazottjainak koncertje &#8211\; Zalaegerszeg
END:VALARM
END:VEVENT
END:VCALENDAR
