BEGIN:VCALENDAR
VERSION:2.0
PRODID:-//Cziffra György Fesztivál //NONSGML Events //EN
CALSCALE:GREGORIAN
X-WR-CALNAME:Cziffra György Fesztivál
BEGIN:VTIMEZONE
TZID:Europe/Budapest
BEGIN:DAYLIGHT
TZOFFSETFROM:+0100
RRULE:FREQ=YEARLY;BYMONTH=3;BYDAY=-1SU
DTSTART:19840325T020000
TZNAME:CEST
TZOFFSETTO:+0200
END:DAYLIGHT
BEGIN:STANDARD
TZOFFSETFROM:+0200
RRULE:FREQ=YEARLY;BYMONTH=10;BYDAY=-1SU
DTSTART:19961027T030000
TZNAME:CET
TZOFFSETTO:+0100
END:STANDARD
END:VTIMEZONE
BEGIN:VEVENT
CREATED:20240515T064553Z
UID:6855
DTSTART;TZID=Europe/Budapest:20241105T193000
DTEND;TZID=Europe/Budapest:20241105T193000
DTSTAMP:20260420T182431Z
LOCATION:Budapest\, Zeneakadémia\, Nagyterem
DESCRIPTION:
SUMMARY:2024.11.05. 19:30 – Liszt-esszencia Cziffra György születésnapján – Budapest
ORGANIZER:Cziffra György Fesztivál
URL;VALUE=URI:https://cziffrafesztival.hu/esemenynaptar/2024-11-05-1930-liszt-esszencia-cziffra-gyorgy-szuletesnapjan-i-balazs-janos-zongoraestje-budapest/
TRANSP:OPAQUE
BEGIN:VALARM
ACTION:DISPLAY
TRIGGER;VALUE=DATE-TIME:20260420T202431Z
DESCRIPTION:Reminder for 2024.11.05. 19:30 &#8211\; Liszt-esszencia Cziffra György születésnapján &#8211\; Budapest
END:VALARM
END:VEVENT
END:VCALENDAR
