BEGIN:VCALENDAR
VERSION:2.0
PRODID:-//Cziffra György Fesztivál //NONSGML Events //EN
CALSCALE:GREGORIAN
X-WR-CALNAME:Cziffra György Fesztivál
BEGIN:VTIMEZONE
TZID:Europe/Budapest
BEGIN:DAYLIGHT
TZOFFSETFROM:+0100
RRULE:FREQ=YEARLY;BYMONTH=3;BYDAY=-1SU
DTSTART:19840325T020000
TZNAME:CEST
TZOFFSETTO:+0200
END:DAYLIGHT
BEGIN:STANDARD
TZOFFSETFROM:+0200
RRULE:FREQ=YEARLY;BYMONTH=10;BYDAY=-1SU
DTSTART:19961027T030000
TZNAME:CET
TZOFFSETTO:+0100
END:STANDARD
END:VTIMEZONE
BEGIN:VEVENT
CREATED:20240515T064552Z
UID:6908
DTSTART;TZID=Europe/Budapest:20241028T100000
DTEND;TZID=Europe/Budapest:20241028T100000
DTSTAMP:20260423T023747Z
LOCATION:Oslo\, The Norwegian Academy of Music
DESCRIPTION:
SUMMARY:2024.10.28. 10:00 – Cziffra Fesztivál zongoramesterkurzus és workshop – Oslo
ORGANIZER:Cziffra György Fesztivál
URL;VALUE=URI:https://cziffrafesztival.hu/esemenynaptar/2024-10-28-1000-cziffra-fesztival-zongoramesterkurzus-es-workshop-oslo/
TRANSP:OPAQUE
BEGIN:VALARM
ACTION:DISPLAY
TRIGGER;VALUE=DATE-TIME:20260423T043747Z
DESCRIPTION:Reminder for 2024.10.28. 10:00 &#8211\; Cziffra Fesztivál zongoramesterkurzus és workshop &#8211\; Oslo
END:VALARM
END:VEVENT
END:VCALENDAR
