BEGIN:VCALENDAR
VERSION:2.0
PRODID:-//Cziffra György Fesztivál //NONSGML Events //EN
CALSCALE:GREGORIAN
X-WR-CALNAME:Cziffra György Fesztivál
BEGIN:VTIMEZONE
TZID:Europe/Budapest
BEGIN:DAYLIGHT
TZOFFSETFROM:+0100
RRULE:FREQ=YEARLY;BYMONTH=3;BYDAY=-1SU
DTSTART:19840325T020000
TZNAME:CEST
TZOFFSETTO:+0200
END:DAYLIGHT
BEGIN:STANDARD
TZOFFSETFROM:+0200
RRULE:FREQ=YEARLY;BYMONTH=10;BYDAY=-1SU
DTSTART:19961027T030000
TZNAME:CET
TZOFFSETTO:+0100
END:STANDARD
END:VTIMEZONE
BEGIN:VEVENT
CREATED:20240515T091215Z
UID:6971
DTSTART;TZID=Europe/Budapest:20250214T180000
DTEND;TZID=Europe/Budapest:20250214T180000
DTSTAMP:20260420T170728Z
LOCATION:Budapest\, Ötpacsira Szalon
DESCRIPTION:
SUMMARY:2025.02.14. 18:00 – Fókuszban a fiatalok – Budapest
ORGANIZER:Cziffra György Fesztivál
URL;VALUE=URI:https://cziffrafesztival.hu/esemenynaptar/fokuszban-a-fiatalok-2/
TRANSP:OPAQUE
BEGIN:VALARM
ACTION:DISPLAY
TRIGGER;VALUE=DATE-TIME:20260420T190728Z
DESCRIPTION:Reminder for 2025.02.14. 18:00 &#8211\; Fókuszban a fiatalok &#8211\; Budapest
END:VALARM
END:VEVENT
END:VCALENDAR
