BEGIN:VCALENDAR
VERSION:2.0
PRODID:-//Cziffra György Fesztivál //NONSGML Events //EN
CALSCALE:GREGORIAN
X-WR-CALNAME:Cziffra György Fesztivál
BEGIN:VTIMEZONE
TZID:Europe/Budapest
BEGIN:DAYLIGHT
TZOFFSETFROM:+0100
RRULE:FREQ=YEARLY;BYMONTH=3;BYDAY=-1SU
DTSTART:19840325T020000
TZNAME:CEST
TZOFFSETTO:+0200
END:DAYLIGHT
BEGIN:STANDARD
TZOFFSETFROM:+0200
RRULE:FREQ=YEARLY;BYMONTH=10;BYDAY=-1SU
DTSTART:19961027T030000
TZNAME:CET
TZOFFSETTO:+0100
END:STANDARD
END:VTIMEZONE
BEGIN:VEVENT
CREATED:20240822T124044Z
UID:7489
DTSTART;TZID=Europe/Budapest:20241011T180000
DTEND;TZID=Europe/Budapest:20241011T180000
DTSTAMP:20260420T102223Z
LOCATION:Budapest\,  MARCZI  - Marczibányi Téri Művelődési Központ
DESCRIPTION:
SUMMARY:2024.10.11. 18:00 – Zongoravirtuózok Cziffra szellemében – Budapest
ORGANIZER:Cziffra György Fesztivál
URL;VALUE=URI:https://cziffrafesztival.hu/esemenynaptar/7489/
TRANSP:OPAQUE
BEGIN:VALARM
ACTION:DISPLAY
TRIGGER;VALUE=DATE-TIME:20260420T122223Z
DESCRIPTION:Reminder for 2024.10.11. 18:00 &#8211\; Zongoravirtuózok Cziffra szellemében &#8211\; Budapest
END:VALARM
END:VEVENT
END:VCALENDAR
