BEGIN:VCALENDAR
VERSION:2.0
PRODID:-//Cziffra György Fesztivál //NONSGML Events //EN
CALSCALE:GREGORIAN
X-WR-CALNAME:Cziffra György Fesztivál
BEGIN:VTIMEZONE
TZID:Europe/Budapest
BEGIN:DAYLIGHT
TZOFFSETFROM:+0100
RRULE:FREQ=YEARLY;BYMONTH=3;BYDAY=-1SU
DTSTART:19840325T020000
TZNAME:CEST
TZOFFSETTO:+0200
END:DAYLIGHT
BEGIN:STANDARD
TZOFFSETFROM:+0200
RRULE:FREQ=YEARLY;BYMONTH=10;BYDAY=-1SU
DTSTART:19961027T030000
TZNAME:CET
TZOFFSETTO:+0100
END:STANDARD
END:VTIMEZONE
BEGIN:VEVENT
CREATED:20240916T121622Z
UID:7624
DTSTART;TZID=Europe/Budapest:20241004T183000
DTEND;TZID=Europe/Budapest:20241004T183000
DTSTAMP:20260422T232010Z
LOCATION:Ada\, SZENTHÁROMSÁG TEMPLOM\, FELSZABADULÁS TÉR 17.
DESCRIPTION:
SUMMARY:2024.10.04. 18:30 – Balázs János Kossuth-díjas zongoraművész jótékonysági koncertje a Bartók Béla Zeneiskola javára – Ada
ORGANIZER:Cziffra György Fesztivál
URL;VALUE=URI:https://cziffrafesztival.hu/esemenynaptar/7624/
TRANSP:OPAQUE
BEGIN:VALARM
ACTION:DISPLAY
TRIGGER;VALUE=DATE-TIME:20260423T012010Z
DESCRIPTION:Reminder for 2024.10.04. 18:30 &#8211\; Balázs János Kossuth-díjas zongoraművész jótékonysági koncertje a Bartók Béla Zeneiskola javára &#8211\; Ada
END:VALARM
END:VEVENT
END:VCALENDAR
