BEGIN:VCALENDAR
VERSION:2.0
PRODID:-//Cziffra György Fesztivál //NONSGML Events //EN
CALSCALE:GREGORIAN
X-WR-CALNAME:Cziffra György Fesztivál
BEGIN:VTIMEZONE
TZID:Europe/Budapest
BEGIN:DAYLIGHT
TZOFFSETFROM:+0100
RRULE:FREQ=YEARLY;BYMONTH=3;BYDAY=-1SU
DTSTART:19840325T020000
TZNAME:CEST
TZOFFSETTO:+0200
END:DAYLIGHT
BEGIN:STANDARD
TZOFFSETFROM:+0200
RRULE:FREQ=YEARLY;BYMONTH=10;BYDAY=-1SU
DTSTART:19961027T030000
TZNAME:CET
TZOFFSETTO:+0100
END:STANDARD
END:VTIMEZONE
BEGIN:VEVENT
CREATED:20251016T070405Z
UID:9117
DTSTART;TZID=Europe/Budapest:20251201T163000
DTEND;TZID=Europe/Budapest:20251223T223000
DTSTAMP:20260422T121015Z
LOCATION:Miskolc\, Miskolci Egyetem\, Főépület\, Üveg előcsarnok\, első emeleti galéria
DESCRIPTION:
SUMMARY:2025.12.01. 16:30 – Árnyékból a fénybe – Tablókiállítás – Miskolc
ORGANIZER:Cziffra György Fesztivál
URL;VALUE=URI:https://cziffrafesztival.hu/esemenynaptar/9117/
TRANSP:OPAQUE
BEGIN:VALARM
ACTION:DISPLAY
TRIGGER;VALUE=DATE-TIME:20260422T141015Z
DESCRIPTION:Reminder for 2025.12.01. 16:30 &#8211\; Árnyékból a fénybe &#8211\; Tablókiállítás &#8211\; Miskolc
END:VALARM
END:VEVENT
END:VCALENDAR
