BEGIN:VCALENDAR
VERSION:2.0
PRODID:-//Cziffra György Fesztivál //NONSGML Events //EN
CALSCALE:GREGORIAN
X-WR-CALNAME:Cziffra György Fesztivál
BEGIN:VTIMEZONE
TZID:Europe/Budapest
BEGIN:DAYLIGHT
TZOFFSETFROM:+0100
RRULE:FREQ=YEARLY;BYMONTH=3;BYDAY=-1SU
DTSTART:19840325T020000
TZNAME:CEST
TZOFFSETTO:+0200
END:DAYLIGHT
BEGIN:STANDARD
TZOFFSETFROM:+0200
RRULE:FREQ=YEARLY;BYMONTH=10;BYDAY=-1SU
DTSTART:19961027T030000
TZNAME:CET
TZOFFSETTO:+0100
END:STANDARD
END:VTIMEZONE
BEGIN:VEVENT
CREATED:20251029T122835Z
UID:9138
DTSTART;TZID=Europe/Budapest:20251201T160000
DTEND;TZID=Europe/Budapest:20251201T160000
DTSTAMP:20260422T121128Z
LOCATION:Miskolc\, Miskolci Egyetem Főépület\, A/4 pihenő zóna
DESCRIPTION:
SUMMARY:2025.12.01. 16:00 – CZIFFRA100 – Tele van a két kezem boldogsággal – Miskolc
ORGANIZER:Cziffra György Fesztivál
URL;VALUE=URI:https://cziffrafesztival.hu/esemenynaptar/9138/
TRANSP:OPAQUE
BEGIN:VALARM
ACTION:DISPLAY
TRIGGER;VALUE=DATE-TIME:20260422T141128Z
DESCRIPTION:Reminder for 2025.12.01. 16:00 &#8211\; CZIFFRA100 &#8211\; Tele van a két kezem boldogsággal &#8211\; Miskolc
END:VALARM
END:VEVENT
END:VCALENDAR
